BEGIN:VCALENDAR
VERSION:2.0
PRODID:-//Rota Events - ECPv5.2.1//NONSGML v1.0//EN
CALSCALE:GREGORIAN
METHOD:PUBLISH
X-WR-CALNAME:Rota Events
X-ORIGINAL-URL:https://www.rotaevents.co.uk
X-WR-CALDESC:Events for Rota Events
BEGIN:VTIMEZONE
TZID:UTC
BEGIN:STANDARD
TZOFFSETFROM:+0000
TZOFFSETTO:+0000
TZNAME:UTC
DTSTART:20260101T000000
END:STANDARD
END:VTIMEZONE
BEGIN:VEVENT
DTSTART;TZID=UTC:20260301T100000
DTEND;TZID=UTC:20260301T140000
DTSTAMP:20260424T195616
CREATED:20250109T155842Z
LAST-MODIFIED:20260113T120343Z
UID:2183-1772359200-1772373600@www.rotaevents.co.uk
SUMMARY:Suffolk Boat Jumble
DESCRIPTION:INDOOR EVENT\n \nAdmission £5.00\nAccompanied children free\nCarpark free
URL:https://www.rotaevents.co.uk/event/suffolk-boat-jumble/
LOCATION:Suffolk Showground\, Trinity Park\, Felixstowe Rd\, Ipswich\, IP3 8UH\, United Kingdom
CATEGORIES:2026
ATTACH;FMTTYPE=image/jpeg:https://www.rotaevents.co.uk/wp-content/uploads/2021/03/suffolk.jpeg
ORGANIZER;CN="Rota%20Events":MAILTO:info@rotaevents.co.uk
END:VEVENT
END:VCALENDAR